BEGIN:VCALENDAR
VERSION:2.0
PRODID:-//carboncountydepotgallery.org//NONSGML kigkonsult.se iCalcreator 2
 .30.10//
CALSCALE:GREGORIAN
METHOD:PUBLISH
UID:1e2a3780-6705-4870-af2e-9c5dc4b83562
X-WR-CALDESC:The High School Student Art Show features art from students in
  grades 9-12 attending Carbon County Schools. Awards will be given courtes
 y of Cafe Regis.
X-WR-RELCALID:9fc9de12ce183113982714bf3850178f
X-WR-TIMEZONE:America/Denver
BEGIN:VTIMEZONE
TZID:America/Denver
BEGIN:STANDARD
TZNAME:MST
DTSTART:20201101T020000
TZOFFSETFROM:-0600
TZOFFSETTO:-0700
RDATE:20211107T020000
END:STANDARD
BEGIN:DAYLIGHT
TZNAME:MDT
DTSTART:20210314T020000
TZOFFSETFROM:-0700
TZOFFSETTO:-0600
RDATE:20220313T020000
END:DAYLIGHT
END:VTIMEZONE
BEGIN:VEVENT
UID:01600ec8-c496-4042-9013-36555859bd84
DTSTAMP:20260424T190012Z
DESCRIPTION:The High School Student Art Show features art from students in 
 grades 9-12 attending Carbon County Schools. Awards will be given courtesy
  of Cafe Regis.
DTSTART;TZID=America/Denver:20210501T000000
DTEND;TZID=America/Denver:20210517T235900
LOCATION:
SUMMARY:High School Student Art Show
END:VEVENT
END:VCALENDAR
