BEGIN:VCALENDAR
VERSION:2.0
PRODID:-//carboncountydepotgallery.org//NONSGML kigkonsult.se iCalcreator 2
 .30.10//
CALSCALE:GREGORIAN
METHOD:PUBLISH
UID:14d27932-75ab-4dcd-b201-c50ce4c63a20
X-WR-CALDESC:The 49th Art in the Beartooths exhibition and auction is an ev
 ent that raises funds for the ongoing programs\, workshops\, exhibitions a
 nd special events that are organized by the Carbon County Arts Guild & Dep
 ot Gallery.\n\nArtists participating in Art in the Beartooths exhibition a
 nd auction are Ty Barhaug\, Maggie Bassett\, Amber Blazina\, Marty Clague\
 , Cheryl Davis\, Ken Deaver\, Thomas English\, Barbara Garrett\, Bonnie Gr
 iffith\, Eleanor Guerrero\, Terry C. Hall\, Carol Hartman\, Connie Herberg
 \, Jackie Inman\, Jerry Inman\, Lance Johnson\, Cheryl Kesler\, David Kewi
 tt\, Mary Knapp\, Ellis Knows Gun\, Allen Knows His Gun\, Laurie Kopec\, M
 ike Kosorok\, Tess Lehman\, Susan Lyons\, Helen Mackay\, Terri Malucci\, J
 udith McMurray\, Tim Morgan\, Maggi Neal\, E. Denney NeVille\, Dorci Newma
 n Tremblay\, Janice Polzin\, John Potter\, Sydney Rajchel\, Kevin Red Star
 \, Stephanie Rose\, Lynn Shield\, Trish Stevenson\, Lou Taylor\, James Vin
 cent\, Shirle Wempner\, Randy Wiethorn\, Kelly Wolfe\, Tom Wolfe\, and Dan
 a Zier.\n\nAmazing works of art by these artists from around the region wi
 ll be on view in the main and north galleries throughout the month. On Sat
 urday\, July 9 at the Kick-off Party the online bidding begins in the styl
 e of a silent auction using Handbid. This allows a person to bid from anyw
 here using their mobile device\, laptop or computer.  \n\nA Quick Finish w
 ill be done at the Kick-off Party from 6:30-7:30 p.m. featuring artists Je
 rry Inman\, John Potter\, and Tom Wolfe. The pieces created at the Quick F
 inish will be sold and proceeds will support our education/scholarship pro
 grams.\n\nTickets to the Kick-Off Bidding Party are $50 per person and ava
 ilable by contacting the Arts Guild. Enjoy an evening of live music by Cha
 rlie Brandine\, food by Samurai Sue's Everyday Food\, beverages\, and oppo
 rtunity to bid on your favorite art. \n\nThe Art in the Beartooths fundrai
 ser supports our ongoing programs including educational outreach\, scholar
 ships\, workshops\, traveling exhibitions and access to the arts.\n\nSpons
 ors for the exhibition and auction include Bank of Red Lodge\, Jo Ann & Be
 rt Eder\, Darryl & Kathryn Smette\, Carol Souders\, Caryn Wibirt\, and Dia
 ne Zook.
X-WR-RELCALID:f5a30ecea7540b02cd254690b0823c9d
X-WR-TIMEZONE:America/Denver
BEGIN:VTIMEZONE
TZID:America/Denver
BEGIN:STANDARD
TZNAME:MST
DTSTART:20211107T020000
TZOFFSETFROM:-0600
TZOFFSETTO:-0700
RDATE:20221106T020000
RDATE:20231105T020000
END:STANDARD
BEGIN:DAYLIGHT
TZNAME:MDT
DTSTART:20220313T020000
TZOFFSETFROM:-0700
TZOFFSETTO:-0600
RDATE:20230312T020000
END:DAYLIGHT
END:VTIMEZONE
BEGIN:VEVENT
UID:05c5278a-9990-4b31-a609-962230890c23
DTSTAMP:20260424T172659Z
DESCRIPTION:The 49th Art in the Beartooths exhibition and auction is an eve
 nt that raises funds for the ongoing programs\, workshops\, exhibitions an
 d special events that are organized by the Carbon County Arts Guild & Depo
 t Gallery.\n\nArtists participating in Art in the Beartooths exhibition an
 d auction are Ty Barhaug\, Maggie Bassett\, Amber Blazina\, Marty Clague\,
  Cheryl Davis\, Ken Deaver\, Thomas English\, Barbara Garrett\, Bonnie Gri
 ffith\, Eleanor Guerrero\, Terry C. Hall\, Carol Hartman\, Connie Herberg\
 , Jackie Inman\, Jerry Inman\, Lance Johnson\, Cheryl Kesler\, David Kewit
 t\, Mary Knapp\, Ellis Knows Gun\, Allen Knows His Gun\, Laurie Kopec\, Mi
 ke Kosorok\, Tess Lehman\, Susan Lyons\, Helen Mackay\, Terri Malucci\, Ju
 dith McMurray\, Tim Morgan\, Maggi Neal\, E. Denney NeVille\, Dorci Newman
  Tremblay\, Janice Polzin\, John Potter\, Sydney Rajchel\, Kevin Red Star\
 , Stephanie Rose\, Lynn Shield\, Trish Stevenson\, Lou Taylor\, James Vinc
 ent\, Shirle Wempner\, Randy Wiethorn\, Kelly Wolfe\, Tom Wolfe\, and Dana
  Zier.\n\nAmazing works of art by these artists from around the region wil
 l be on view in the main and north galleries throughout the month. On Satu
 rday\, July 9 at the Kick-off Party the online bidding begins in the style
  of a silent auction using Handbid. This allows a person to bid from anywh
 ere using their mobile device\, laptop or computer.  \n\nA Quick Finish wi
 ll be done at the Kick-off Party from 6:30-7:30 p.m. featuring artists Jer
 ry Inman\, John Potter\, and Tom Wolfe. The pieces created at the Quick Fi
 nish will be sold and proceeds will support our education/scholarship prog
 rams.\n\nTickets to the Kick-Off Bidding Party are $50 per person and avai
 lable by contacting the Arts Guild. Enjoy an evening of live music by Char
 lie Brandine\, food by Samurai Sue's Everyday Food\, beverages\, and oppor
 tunity to bid on your favorite art. \n\nThe Art in the Beartooths fundrais
 er supports our ongoing programs including educational outreach\, scholars
 hips\, workshops\, traveling exhibitions and access to the arts.\n\nSponso
 rs for the exhibition and auction include Bank of Red Lodge\, Jo Ann & Ber
 t Eder\, Darryl & Kathryn Smette\, Carol Souders\, Caryn Wibirt\, and Dian
 e Zook.
DTSTART;TZID=America/Denver:20220701T000000
DTEND;TZID=America/Denver:20220726T235900
LOCATION:
SUMMARY:Art in the Beartooths Exhibition and Auction
END:VEVENT
END:VCALENDAR
