BEGIN:VCALENDAR
VERSION:2.0
PRODID:-//carboncountydepotgallery.org//NONSGML kigkonsult.se iCalcreator 2
 .30.10//
CALSCALE:GREGORIAN
METHOD:PUBLISH
UID:31c73520-ecab-49ff-acd7-2f4c8cbece89
X-WR-CALDESC:View our 2nd Annual Student Winter Poster Contest. This year's
  theme is 'My Favorite Thing About Winter'. 10 finalists were chosen from 
 different grade categories and now it's time to VOTE! Choose your favorite
  artwork in each grade category. Students will win great prizes from our s
 ponsor Red Lodge Pizza Co. Come see these wonderful holiday images!
X-WR-RELCALID:ea756f30cda4c660ef6b810ff81a8d76
X-WR-TIMEZONE:America/Denver
BEGIN:VTIMEZONE
TZID:America/Denver
BEGIN:STANDARD
TZNAME:MST
DTSTART:20241103T020000
TZOFFSETFROM:-0600
TZOFFSETTO:-0700
RDATE:20251102T020000
END:STANDARD
BEGIN:DAYLIGHT
TZNAME:MDT
DTSTART:20240310T020000
TZOFFSETFROM:-0700
TZOFFSETTO:-0600
RDATE:20250309T020000
RDATE:20260308T020000
END:DAYLIGHT
END:VTIMEZONE
BEGIN:VEVENT
UID:f5d4ded3-fdd7-45b1-a346-f57f22317a77
DTSTAMP:20260424T153931Z
DESCRIPTION:View our 2nd Annual Student Winter Poster Contest. This year's 
 theme is 'My Favorite Thing About Winter'. 10 finalists were chosen from d
 ifferent grade categories and now it's time to VOTE! Choose your favorite 
 artwork in each grade category. Students will win great prizes from our sp
 onsor Red Lodge Pizza Co. Come see these wonderful holiday images!
DTSTART;TZID=America/Denver:20241206T040000
DTEND;TZID=America/Denver:20241215T040001
LOCATION:
SUMMARY:Student Winter Poster Contest
END:VEVENT
END:VCALENDAR
