BEGIN:VCALENDAR
VERSION:2.0
PRODID:-//carboncountydepotgallery.org//NONSGML kigkonsult.se iCalcreator 2
 .30.10//
CALSCALE:GREGORIAN
METHOD:PUBLISH
UID:ff9dac8e-a745-4ec1-811f-6c370b59472b
X-WR-CALDESC:'Six Perspectives' features work by artists who were part of t
 he Montana Artrepreneur Programs through the Montana Arts Council. \n\nThe
 y say\, 'Experiences\, values and beliefs mold the way each of us see the 
 world. These perspectives\, especially an artist’s perspective is evident 
 in our work. It is personal. It drives decision-making\, thinking patterns
 \, and actions.  It can define an artist’s creative process and what that 
 artist wants her art to say. How the artist wants the viewer to see the pi
 ece and respond.'\n\n“Six Perspectives\,” is about six Montana artists tha
 t were brought together by the 2022 Montana Artrepreneur Program (MAP) and
  each artist’s perspective that influences creations. The Montana Arts Cou
 ncil\, which organizes and facilitates  MAP\, believes 'artists are\, by n
 ature\, inventors\, engineers\, explorers\, and discoverers. Artists see p
 ossibility everywhere.' As a result\, the Montana Arts Council also implie
 s there is no singular approach to art. It is individually determined.\n\n
 Multiple choices are embedded in the creative process. Artists choose such
  things as simplicity\, variety\, contrast\, distinction\, and color. Arti
 sts choose the subject matter. Artists choose the materials. All these cho
 ices enlighten a viewer’s understanding of an artist’s intended statement.
  In this group of artists\, their messages are stated and achieved.\n\nArt
 ists in the exhibition say\, 'We six artists speak about our story\, obser
 vation\, and need for questioning. We long to evoke beauty\, meaning\, and
  a memory. We propose reflection and a possible new pace for life. We are 
 six artists\, with six perspectives. We want to tell our individual storie
 s together\, bound as chapters of a book.'\n\n\nParticipating Artists -\n
 \nLiz Chappie Zoller: mixed media painter\n'My art explores the overlappin
 g edges of diverse cultures.  I invite viewers to discover the unexpected 
 intersections of our common values and goals\, therefore asking each viewe
 r to stay curious and open to our shared humanity\, instead of what separa
 tes us.'\n\nLisa Christopher: NUNO felting artist\n'I create to question t
 he eyes of the viewer\, so they wonder what they are looking at. Each piec
 e tells a story\, and my energy is infused into every square inch.'\n\nCyn
 thia Handel: sculptor\n'I am inspired by my environment. I dance with fire
 . I draw with fire. I play with fire. Fire is where my alchemy happens.'\n
 \nJohn Kennedy: writer\, pen\, wash watercolor artist\n“I’m trying to tell
  you something about my life. That is what I want in my art and in my life
 . The crumbling bricks of an old building are our souls laid bare\, saggin
 g power lines strung across a city alley are our struggle to rise above th
 e fray\, the braided strands of a river\, the twisted path of my own life’
 s journey. It all means something more than what we simply see.' \n\nPat O
 lding: palette knife painter\n'By exploring and re-imaging color and patte
 rn I aim to engage the viewers’ eye. My goal is to create a path of discov
 ery for viewers and invite new awareness. Like Thoreau wrote\, 'The questi
 on is not what you look at\, but what you see.''\n\nCarmen Young: oil pain
 ter\n'With oil paint\, I lay down color on the canvas in hopes of creating
  a tangible Montana memory. I hope that my art will move its viewers to pa
 use\, reflect\, and seek moments of observation in their surroundings.'\n
 \nThis exhibition is on view February 1-March 22\, 2025. Free and open to 
 the public.\n\nThe exhibition is sponsored by the Carbon County Arts Guild
  & Depot Gallery which is supported in part by grants from the Montana Art
 s Council\, the Coal Tax Trust Fund for Cultural and Aesthetic Projects\, 
 and the National Endowment for the Arts. \n\nThe Carbon County Arts Guild 
 & Depot Gallery provides access to art\, supports artistic expression\, an
 d encourages creative experiences for the enrichment of our communities. 
 \n\nFor more information visit or call the Guild at (406) 446-1370. \n\n
X-WR-RELCALID:6984ed0930a10d8f0a7dc1a591f4a179
X-WR-TIMEZONE:America/Denver
BEGIN:VTIMEZONE
TZID:America/Denver
BEGIN:STANDARD
TZNAME:MST
DTSTART:20241103T020000
TZOFFSETFROM:-0600
TZOFFSETTO:-0700
RDATE:20251102T020000
END:STANDARD
BEGIN:DAYLIGHT
TZNAME:MDT
DTSTART:20240310T020000
TZOFFSETFROM:-0700
TZOFFSETTO:-0600
RDATE:20250309T020000
RDATE:20260308T020000
END:DAYLIGHT
END:VTIMEZONE
BEGIN:VEVENT
UID:9bcbb4f0-699f-4e0d-ba3f-08f9846cfce2
DTSTAMP:20260424T141029Z
DESCRIPTION:'Six Perspectives' features work by artists who were part of th
 e Montana Artrepreneur Programs through the Montana Arts Council. \n\nThey
  say\, 'Experiences\, values and beliefs mold the way each of us see the w
 orld. These perspectives\, especially an artist’s perspective is evident i
 n our work. It is personal. It drives decision-making\, thinking patterns\
 , and actions.  It can define an artist’s creative process and what that a
 rtist wants her art to say. How the artist wants the viewer to see the pie
 ce and respond.'\n\n“Six Perspectives\,” is about six Montana artists that
  were brought together by the 2022 Montana Artrepreneur Program (MAP) and 
 each artist’s perspective that influences creations. The Montana Arts Coun
 cil\, which organizes and facilitates  MAP\, believes 'artists are\, by na
 ture\, inventors\, engineers\, explorers\, and discoverers. Artists see po
 ssibility everywhere.' As a result\, the Montana Arts Council also implies
  there is no singular approach to art. It is individually determined.\n\nM
 ultiple choices are embedded in the creative process. Artists choose such 
 things as simplicity\, variety\, contrast\, distinction\, and color. Artis
 ts choose the subject matter. Artists choose the materials. All these choi
 ces enlighten a viewer’s understanding of an artist’s intended statement. 
 In this group of artists\, their messages are stated and achieved.\n\nArti
 sts in the exhibition say\, 'We six artists speak about our story\, observ
 ation\, and need for questioning. We long to evoke beauty\, meaning\, and 
 a memory. We propose reflection and a possible new pace for life. We are s
 ix artists\, with six perspectives. We want to tell our individual stories
  together\, bound as chapters of a book.'\n\n\nParticipating Artists -\n\n
 Liz Chappie Zoller: mixed media painter\n'My art explores the overlapping 
 edges of diverse cultures.  I invite viewers to discover the unexpected in
 tersections of our common values and goals\, therefore asking each viewer 
 to stay curious and open to our shared humanity\, instead of what separate
 s us.'\n\nLisa Christopher: NUNO felting artist\n'I create to question the
  eyes of the viewer\, so they wonder what they are looking at. Each piece 
 tells a story\, and my energy is infused into every square inch.'\n\nCynth
 ia Handel: sculptor\n'I am inspired by my environment. I dance with fire. 
 I draw with fire. I play with fire. Fire is where my alchemy happens.'\n\n
 John Kennedy: writer\, pen\, wash watercolor artist\n“I’m trying to tell y
 ou something about my life. That is what I want in my art and in my life. 
 The crumbling bricks of an old building are our souls laid bare\, sagging 
 power lines strung across a city alley are our struggle to rise above the 
 fray\, the braided strands of a river\, the twisted path of my own life’s 
 journey. It all means something more than what we simply see.' \n\nPat Old
 ing: palette knife painter\n'By exploring and re-imaging color and pattern
  I aim to engage the viewers’ eye. My goal is to create a path of discover
 y for viewers and invite new awareness. Like Thoreau wrote\, 'The question
  is not what you look at\, but what you see.''\n\nCarmen Young: oil painte
 r\n'With oil paint\, I lay down color on the canvas in hopes of creating a
  tangible Montana memory. I hope that my art will move its viewers to paus
 e\, reflect\, and seek moments of observation in their surroundings.'\n\nT
 his exhibition is on view February 1-March 22\, 2025. Free and open to the
  public.\n\nThe exhibition is sponsored by the Carbon County Arts Guild & 
 Depot Gallery which is supported in part by grants from the Montana Arts C
 ouncil\, the Coal Tax Trust Fund for Cultural and Aesthetic Projects\, and
  the National Endowment for the Arts. \n\nThe Carbon County Arts Guild & D
 epot Gallery provides access to art\, supports artistic expression\, and e
 ncourages creative experiences for the enrichment of our communities. \n\n
 For more information visit or call the Guild at (406) 446-1370. \n\n
DTSTART;TZID=America/Denver:20250201T040000
DTEND;TZID=America/Denver:20250322T040001
LOCATION:
SUMMARY:Six Perspectives\, MAP Red Lodge Cohort
END:VEVENT
END:VCALENDAR
