BEGIN:VCALENDAR
VERSION:2.0
PRODID:-//carboncountydepotgallery.org//NONSGML kigkonsult.se iCalcreator 2
 .30.10//
CALSCALE:GREGORIAN
METHOD:PUBLISH
UID:b6b20ab2-72b7-4cf2-bd3b-5b7f4e90b90a
X-WR-CALDESC:The Carbon County Arts Guild & Depot Gallery is proud to prese
 nt the 2025 Annual K-8 Student Art Show on view April 5-27\, 2025. Install
 ed in the main and north galleries are drawings\, paintings\, sculptures\,
  and digital art from the talented students in kindergarten through eighth
  grade attending schools in Fishtail\, Fromberg\, Luther\, Nye\, Red Lodge
 \, and Roberts.\n\nAn Opening Reception and Awards Ceremony will be held S
 unday\, April 13th from 2-4 p.m. Awards are provided courtesy of generous 
 donations from Kids Corner and The Bob Moran Festival of Nations Foundatio
 n. The exhibition and reception are free and open to the public. \n\nWinte
 r hours are 10 a.m.-5p.m.\, Thursday through Saturday and 12-4 p.m. Sunday
  and Monday. \n\nThe Carbon County Arts Guild & Depot Gallery provides acc
 ess to art\, supports artistic expression\, and encourages creative experi
 ences for the enrichment of our communities.\n\nThis exhibition is organiz
 ed by the Carbon County Arts Guild & Depot Gallery which is supported in p
 art by grants from the Montana Arts Council\, the Coal Tax Trust Fund for 
 Cultural and Aesthetic Projects\, and the National Endowment for the Arts.
X-WR-RELCALID:5ba8e45d6875ba56d7b7cf4c4f3fb7c5
X-WR-TIMEZONE:America/Denver
BEGIN:VTIMEZONE
TZID:America/Denver
BEGIN:STANDARD
TZNAME:MST
DTSTART:20241103T020000
TZOFFSETFROM:-0600
TZOFFSETTO:-0700
RDATE:20251102T020000
END:STANDARD
BEGIN:DAYLIGHT
TZNAME:MDT
DTSTART:20250309T020000
TZOFFSETFROM:-0700
TZOFFSETTO:-0600
RDATE:20260308T020000
END:DAYLIGHT
END:VTIMEZONE
BEGIN:VEVENT
UID:05c8fdfa-f288-46c0-8879-8a9cd998de29
DTSTAMP:20260424T121422Z
DESCRIPTION:The Carbon County Arts Guild & Depot Gallery is proud to presen
 t the 2025 Annual K-8 Student Art Show on view April 5-27\, 2025. Installe
 d in the main and north galleries are drawings\, paintings\, sculptures\, 
 and digital art from the talented students in kindergarten through eighth 
 grade attending schools in Fishtail\, Fromberg\, Luther\, Nye\, Red Lodge\
 , and Roberts.\n\nAn Opening Reception and Awards Ceremony will be held Su
 nday\, April 13th from 2-4 p.m. Awards are provided courtesy of generous d
 onations from Kids Corner and The Bob Moran Festival of Nations Foundation
 . The exhibition and reception are free and open to the public. \n\nWinter
  hours are 10 a.m.-5p.m.\, Thursday through Saturday and 12-4 p.m. Sunday 
 and Monday. \n\nThe Carbon County Arts Guild & Depot Gallery provides acce
 ss to art\, supports artistic expression\, and encourages creative experie
 nces for the enrichment of our communities.\n\nThis exhibition is organize
 d by the Carbon County Arts Guild & Depot Gallery which is supported in pa
 rt by grants from the Montana Arts Council\, the Coal Tax Trust Fund for C
 ultural and Aesthetic Projects\, and the National Endowment for the Arts.
DTSTART;TZID=America/Denver:20250405T040000
DTEND;TZID=America/Denver:20250427T040001
LOCATION:
SUMMARY:K-8 Student Art Show
END:VEVENT
END:VCALENDAR
