BEGIN:VCALENDAR
VERSION:2.0
PRODID:-//carboncountydepotgallery.org//NONSGML kigkonsult.se iCalcreator 2
 .30.10//
CALSCALE:GREGORIAN
METHOD:PUBLISH
UID:4a36afda-dfdf-407f-a507-15dc0c546bf1
X-WR-CALDESC:May 3-18\, 2025 view the art created by high school students i
 n Carbon County High Schools. Installed in the main gallery are drawings\,
  paintings\, sculptures\, and digital art from the talented students in 9t
 h through 12th grade. Awards as well as the annual student scholarship wil
 l be announced around 3 p.m. during the reception. \n\nThe reception is 2-
 4 p.m.\, Sunday\, May\, 4\, 2025. Light refreshments will be served. The e
 xhibition and award ceremony is free and open to the public.\n\nThis exhib
 ition is organized by the Carbon County Arts Guild & Depot Gallery which i
 s funded in part by coal severance taxes paid based upon coal mined in Mon
 tana and deposited in Montana's cultural and aesthetic projects trust fund
 .\n\nThe Carbon County Arts Guild & Depot Gallery provides access to art\,
  supports artistic expression\, and encourages creative experiences for th
 e enrichment of our communities.\n
X-WR-RELCALID:8a72d26d9cd454d5f798a676ed1767b2
X-WR-TIMEZONE:America/Denver
BEGIN:VTIMEZONE
TZID:America/Denver
BEGIN:STANDARD
TZNAME:MST
DTSTART:20241103T020000
TZOFFSETFROM:-0600
TZOFFSETTO:-0700
RDATE:20251102T020000
RDATE:20261101T020000
END:STANDARD
BEGIN:DAYLIGHT
TZNAME:MDT
DTSTART:20250309T020000
TZOFFSETFROM:-0700
TZOFFSETTO:-0600
RDATE:20260308T020000
END:DAYLIGHT
END:VTIMEZONE
BEGIN:VEVENT
UID:cc9bae06-56ea-4ef4-9de3-0f04afe8c444
DTSTAMP:20260424T121531Z
DESCRIPTION:May 3-18\, 2025 view the art created by high school students in
  Carbon County High Schools. Installed in the main gallery are drawings\, 
 paintings\, sculptures\, and digital art from the talented students in 9th
  through 12th grade. Awards as well as the annual student scholarship will
  be announced around 3 p.m. during the reception. \n\nThe reception is 2-4
  p.m.\, Sunday\, May\, 4\, 2025. Light refreshments will be served. The ex
 hibition and award ceremony is free and open to the public.\n\nThis exhibi
 tion is organized by the Carbon County Arts Guild & Depot Gallery which is
  funded in part by coal severance taxes paid based upon coal mined in Mont
 ana and deposited in Montana's cultural and aesthetic projects trust fund.
 \n\nThe Carbon County Arts Guild & Depot Gallery provides access to art\, 
 supports artistic expression\, and encourages creative experiences for the
  enrichment of our communities.\n
DTSTART;TZID=America/Denver:20250503T040000
DTEND;TZID=America/Denver:20250518T040001
LOCATION:
SUMMARY:High School Student & Art Educators Show
END:VEVENT
END:VCALENDAR
