BEGIN:VCALENDAR
VERSION:2.0
PRODID:-//carboncountydepotgallery.org//NONSGML kigkonsult.se iCalcreator 2
 .30.10//
CALSCALE:GREGORIAN
METHOD:PUBLISH
UID:001e3539-e8db-462b-b6a3-10fc7810e8a8
X-WR-CALDESC:Living near the valley in which his great grandparents homeste
 aded\, Bruce Marty has deeply rooted feelings for the local landscape. Roa
 ming the mountainous regions of Montana and Wyoming has been an inspiratio
 n for his creativity. While painting a wide range of subjects his primary 
 interest is to share his view of the Beartooth and Absaroka Mountains\, th
 e Yellowstone River valley\, and the surrounding area. \n\nHis style is sh
 aped by the rugged beauty of this landscape\, the clarity of the atmospher
 e\, the intensity of the light\, and the depth of the shadows. Accurate dr
 awing\, informed color choices\, and descriptive brushwork are the tools h
 e relies on to capture the feeling of light and space.\n\nAt an early age 
 Bruce showed an avid interest in drawing and modeling clay. A self taught 
 artist he has worked in sculpture\, pencil drawing\, stained glass\, woodc
 arving and painting. His focus at present is painting landscapes in oil an
 d acrylics. The frames for each painting are handcrafted by the artist.\n
 \nA reception for the artist and this exhibition will be hosted Saturday\,
  August 9\, from 2-4 p.m. at the Depot Gallery. This event is free and ope
 n to the public.\n\nThis exhibition is organized by the Carbon County Arts
  Guild & Depot Gallery which is funded in part by coal severance taxes pai
 d based upon coal mined in Montana and deposited in Montana's cultural and
  aesthetic projects trust fund.\n\nThe Carbon County Arts Guild & Depot Ga
 llery provides access to art\, supports artistic expression\, and encourag
 es creative experiences for the enrichment of our communities. \n
X-WR-RELCALID:8bdb01746caf95fef0d6e5dfa645a1ae
X-WR-TIMEZONE:America/Denver
BEGIN:VTIMEZONE
TZID:America/Denver
BEGIN:STANDARD
TZNAME:MST
DTSTART:20241103T020000
TZOFFSETFROM:-0600
TZOFFSETTO:-0700
RDATE:20251102T020000
RDATE:20261101T020000
END:STANDARD
BEGIN:DAYLIGHT
TZNAME:MDT
DTSTART:20250309T020000
TZOFFSETFROM:-0700
TZOFFSETTO:-0600
RDATE:20260308T020000
END:DAYLIGHT
END:VTIMEZONE
BEGIN:VEVENT
UID:76397c77-e9bb-439c-b6b0-9ff0df0f60e8
DTSTAMP:20260424T140411Z
DESCRIPTION:Living near the valley in which his great grandparents homestea
 ded\, Bruce Marty has deeply rooted feelings for the local landscape. Roam
 ing the mountainous regions of Montana and Wyoming has been an inspiration
  for his creativity. While painting a wide range of subjects his primary i
 nterest is to share his view of the Beartooth and Absaroka Mountains\, the
  Yellowstone River valley\, and the surrounding area. \n\nHis style is sha
 ped by the rugged beauty of this landscape\, the clarity of the atmosphere
 \, the intensity of the light\, and the depth of the shadows. Accurate dra
 wing\, informed color choices\, and descriptive brushwork are the tools he
  relies on to capture the feeling of light and space.\n\nAt an early age B
 ruce showed an avid interest in drawing and modeling clay. A self taught a
 rtist he has worked in sculpture\, pencil drawing\, stained glass\, woodca
 rving and painting. His focus at present is painting landscapes in oil and
  acrylics. The frames for each painting are handcrafted by the artist.\n\n
 A reception for the artist and this exhibition will be hosted Saturday\, A
 ugust 9\, from 2-4 p.m. at the Depot Gallery. This event is free and open 
 to the public.\n\nThis exhibition is organized by the Carbon County Arts G
 uild & Depot Gallery which is funded in part by coal severance taxes paid 
 based upon coal mined in Montana and deposited in Montana's cultural and a
 esthetic projects trust fund.\n\nThe Carbon County Arts Guild & Depot Gall
 ery provides access to art\, supports artistic expression\, and encourages
  creative experiences for the enrichment of our communities. \n
DTSTART;TZID=America/Denver:20250801T040000
DTEND;TZID=America/Denver:20250825T040001
LOCATION:
SUMMARY:Montana Landscape: Paintings by Bruce Marty
END:VEVENT
END:VCALENDAR
