BEGIN:VCALENDAR
VERSION:2.0
PRODID:-//carboncountydepotgallery.org//NONSGML kigkonsult.se iCalcreator 2
 .30.10//
CALSCALE:GREGORIAN
METHOD:PUBLISH
UID:6cb85f6c-84ca-44a3-9148-5ab81a9adaa7
X-WR-CALDESC:The exhibition 'Montana Fabric' is on view August 1-25\, 2025.
  Join us for the Opening Reception from 2-4 p.m. on Saturday\, August 9\, 
 2025 with a gallery talk at 3 p.m. This event is free and open to the publ
 ic. \n\nPat Olding is palette knife painter and outdoor enthusiast. She li
 ves south of Red Lodge where she can often be found painting in her studio
  with her long hair dachshund\, Reese at her feet. \n\nPAT OLDING'S STATEM
 ENT ABOUT THIS EXHIBITION:\n\nMontana Fabric\, like all my painting\, is d
 esigned to create a path to discovery for me the viewer. The twenty-plus p
 aintings are primarily comprised of two unlikely compositional elements\, 
 majestic Montana animals and precise quilt or fabric designs. The purpose 
 of the juxtaposition of these two elements is to demonstrate that the incl
 usion of both these elements\, even though not dependent on each other\, t
 hey both benefit and are enriched by each other. \n\nOn the surface we can
  appreciate the majestic animals with simple pattern’s\, existing in the s
 ame time\, contributing to the same painting. They are threads crossing ea
 ch other being fastened into the painting like the interlocking strokes an
 d layers of paint. \n\nWithout each thread fabric becomes unwoven. Without
  each element the society fabric as we know it does not exist. This show i
 s about the celebration of each and every thread that makes Montana whole.
  With an understanding of the multiple elements\, we acknowledge everyone’
 s good talents and contributions. This is what makes our community enjoyab
 le\, profitable and supportive. \n\nThe concept for this show came about a
 fter reading that Sidney\, Montana women (like many other American women) 
 created quilts for auction during WWII. The proceeds were used to buy ciga
 rettes and candies for the soldiers. These unsung talents were used to sup
 port the war effort. I thought if I recognized these efforts with some of 
 the most majestic elements of Montana\, they would be seen as equal thread
 s of the fabric. By doing this I am also hoping viewers will recognize all
  the talents\, all the efforts and all the treads that make the Montana Fa
 bric. \n\nThe combination of animals and quilts is sometimes bold and othe
 r times subtle. The beauty of each element and their relationship on my ca
 nvas are meant to provide visual beauty and provoke thoughtfulness. Please
  accept the show as appreciation for Montana.\n
X-WR-RELCALID:032e331ea10b37b6f02bc10199aff2f5
X-WR-TIMEZONE:America/Denver
BEGIN:VTIMEZONE
TZID:America/Denver
BEGIN:STANDARD
TZNAME:MST
DTSTART:20241103T020000
TZOFFSETFROM:-0600
TZOFFSETTO:-0700
RDATE:20251102T020000
RDATE:20261101T020000
END:STANDARD
BEGIN:DAYLIGHT
TZNAME:MDT
DTSTART:20250309T020000
TZOFFSETFROM:-0700
TZOFFSETTO:-0600
RDATE:20260308T020000
END:DAYLIGHT
END:VTIMEZONE
BEGIN:VEVENT
UID:1f937e8a-74b1-4b19-bf3e-c7d16cd083fd
DTSTAMP:20260424T122056Z
DESCRIPTION:The exhibition 'Montana Fabric' is on view August 1-25\, 2025. 
 Join us for the Opening Reception from 2-4 p.m. on Saturday\, August 9\, 2
 025 with a gallery talk at 3 p.m. This event is free and open to the publi
 c. \n\nPat Olding is palette knife painter and outdoor enthusiast. She liv
 es south of Red Lodge where she can often be found painting in her studio 
 with her long hair dachshund\, Reese at her feet. \n\nPAT OLDING'S STATEME
 NT ABOUT THIS EXHIBITION:\n\nMontana Fabric\, like all my painting\, is de
 signed to create a path to discovery for me the viewer. The twenty-plus pa
 intings are primarily comprised of two unlikely compositional elements\, m
 ajestic Montana animals and precise quilt or fabric designs. The purpose o
 f the juxtaposition of these two elements is to demonstrate that the inclu
 sion of both these elements\, even though not dependent on each other\, th
 ey both benefit and are enriched by each other. \n\nOn the surface we can 
 appreciate the majestic animals with simple pattern’s\, existing in the sa
 me time\, contributing to the same painting. They are threads crossing eac
 h other being fastened into the painting like the interlocking strokes and
  layers of paint. \n\nWithout each thread fabric becomes unwoven. Without 
 each element the society fabric as we know it does not exist. This show is
  about the celebration of each and every thread that makes Montana whole. 
 With an understanding of the multiple elements\, we acknowledge everyone’s
  good talents and contributions. This is what makes our community enjoyabl
 e\, profitable and supportive. \n\nThe concept for this show came about af
 ter reading that Sidney\, Montana women (like many other American women) c
 reated quilts for auction during WWII. The proceeds were used to buy cigar
 ettes and candies for the soldiers. These unsung talents were used to supp
 ort the war effort. I thought if I recognized these efforts with some of t
 he most majestic elements of Montana\, they would be seen as equal threads
  of the fabric. By doing this I am also hoping viewers will recognize all 
 the talents\, all the efforts and all the treads that make the Montana Fab
 ric. \n\nThe combination of animals and quilts is sometimes bold and other
  times subtle. The beauty of each element and their relationship on my can
 vas are meant to provide visual beauty and provoke thoughtfulness. Please 
 accept the show as appreciation for Montana.\n
DTSTART;TZID=America/Denver:20250801T040000
DTEND;TZID=America/Denver:20250825T040001
LOCATION:
SUMMARY:Montana Fabric: Oil Paintings by Pat Olding
END:VEVENT
END:VCALENDAR
