BEGIN:VCALENDAR
VERSION:2.0
PRODID:-//carboncountydepotgallery.org//NONSGML kigkonsult.se iCalcreator 2
 .30.10//
CALSCALE:GREGORIAN
METHOD:PUBLISH
UID:2938f0a5-865c-492a-9b96-bf97f4e1a5b3
X-WR-CALDESC:This summer we will feature amazing paintings by Henry Blond i
 n the main gallery at the Carbon County Arts Guild. \n\nAs a former reside
 nt of Red Lodge\, artist Henry Blond is set to return with a new series of
  paintings for his exhibition\, 'Encounters.' The opening reception is 5-7
  p.m. with a gallery talk at 6 p.m. on Friday\, August 29\, 2025. This pre
 view of work and gallery talk is free and open to the public. If you can't
  make it to the reception\, Blond will be available to visit informally at
  the Depot Gallery on Monday\, September 1 during the Labor Day Arts Fair.
 \n\nHenry’s creative background in music\, design and visual arts is unifi
 ed through the balancing of rhythm\, harmony\, color and the powerful use 
 of space. With Montana being such a formative place on his journey to beco
 ming a full-time artist\, Henry is excited to come back and share the resu
 lts of his recent artistic exploration. \n\nThis exhibition is organized b
 y the Carbon County Arts Guild & Depot Gallery which receives additional s
 upport from coal tax placed into Montana's Cultural and Aesthetic Projects
  Trust Fund.\n \nThe Carbon County Arts Guild & Depot Gallery provides acc
 ess to art\, supports artistic expression\, and encourages creative experi
 ences for the enrichment of our communities. \n\n
X-WR-RELCALID:5d571dc5274e428df3b48e4657c28a3e
X-WR-TIMEZONE:America/Denver
BEGIN:VTIMEZONE
TZID:America/Denver
BEGIN:STANDARD
TZNAME:MST
DTSTART:20241103T020000
TZOFFSETFROM:-0600
TZOFFSETTO:-0700
RDATE:20251102T020000
RDATE:20261101T020000
END:STANDARD
BEGIN:DAYLIGHT
TZNAME:MDT
DTSTART:20250309T020000
TZOFFSETFROM:-0700
TZOFFSETTO:-0600
RDATE:20260308T020000
END:DAYLIGHT
END:VTIMEZONE
BEGIN:VEVENT
UID:46f3f332-37ba-44e1-9d3e-f870a5620625
DTSTAMP:20260424T121316Z
DESCRIPTION:This summer we will feature amazing paintings by Henry Blond in
  the main gallery at the Carbon County Arts Guild. \n\nAs a former residen
 t of Red Lodge\, artist Henry Blond is set to return with a new series of 
 paintings for his exhibition\, 'Encounters.' The opening reception is 5-7 
 p.m. with a gallery talk at 6 p.m. on Friday\, August 29\, 2025. This prev
 iew of work and gallery talk is free and open to the public. If you can't 
 make it to the reception\, Blond will be available to visit informally at 
 the Depot Gallery on Monday\, September 1 during the Labor Day Arts Fair.
 \n\nHenry’s creative background in music\, design and visual arts is unifi
 ed through the balancing of rhythm\, harmony\, color and the powerful use 
 of space. With Montana being such a formative place on his journey to beco
 ming a full-time artist\, Henry is excited to come back and share the resu
 lts of his recent artistic exploration. \n\nThis exhibition is organized b
 y the Carbon County Arts Guild & Depot Gallery which receives additional s
 upport from coal tax placed into Montana's Cultural and Aesthetic Projects
  Trust Fund.\n \nThe Carbon County Arts Guild & Depot Gallery provides acc
 ess to art\, supports artistic expression\, and encourages creative experi
 ences for the enrichment of our communities. \n\n
DTSTART;TZID=America/Denver:20250830T040000
DTEND;TZID=America/Denver:20250928T040001
LOCATION:
SUMMARY:ENCOUNTERS: Recent Work by Henry Blond
END:VEVENT
END:VCALENDAR
