BEGIN:VCALENDAR
VERSION:2.0
PRODID:-//carboncountydepotgallery.org//NONSGML kigkonsult.se iCalcreator 2
 .30.10//
CALSCALE:GREGORIAN
METHOD:PUBLISH
UID:19c00918-737a-432c-a566-db9c4845c41b
X-WR-CALDESC:Art by Carol Hartman will be featured in the north gallery of 
 the Carbon County Arts Guild August 30-September 28\, 2025. \n\nComing fro
 m a rich background in extremely rural northern Montana along the Missouri
  River\, Carol’s large colorful oil paintings reflect upon the remoteness\
 , the hardships\, and the struggles of early Montanans. Hartman’s attempt 
 to capture a way of life that has vanished forever has resulted in three m
 ajor art series… homesteads\, riverboats\, and the Rocky Mountains.\n\nThe
  opening reception is FRIDAY\, AUGUST 29\, from 5-7 p.m. Enjoy light refre
 shments. This event is free and open to the public. If you are unable to a
 ttend the opening reception\, stop by the Depot Gallery\, Monday September
  1\, during the Labor Day Arts Fair to visit with the artist. \n\nThis exh
 ibition is organized by the Carbon County Arts Guild & Depot Gallery which
  receives additional support from coal tax placed into Montana's Cultural 
 and Aesthetic Projects Trust Fund.\n \nThe Carbon County Arts Guild & Depo
 t Gallery provides access to art\, supports artistic expression\, and enco
 urages creative experiences for the enrichment of our communities. \n\n
X-WR-RELCALID:ea2c78f60e06abeef82ff5f41a82696f
X-WR-TIMEZONE:America/Denver
BEGIN:VTIMEZONE
TZID:America/Denver
BEGIN:STANDARD
TZNAME:MST
DTSTART:20241103T020000
TZOFFSETFROM:-0600
TZOFFSETTO:-0700
RDATE:20251102T020000
RDATE:20261101T020000
END:STANDARD
BEGIN:DAYLIGHT
TZNAME:MDT
DTSTART:20250309T020000
TZOFFSETFROM:-0700
TZOFFSETTO:-0600
RDATE:20260308T020000
END:DAYLIGHT
END:VTIMEZONE
BEGIN:VEVENT
UID:c1ffe514-0fc6-465b-93a1-5cf547b4f7ca
DTSTAMP:20260424T121854Z
DESCRIPTION:Art by Carol Hartman will be featured in the north gallery of t
 he Carbon County Arts Guild August 30-September 28\, 2025. \n\nComing from
  a rich background in extremely rural northern Montana along the Missouri 
 River\, Carol’s large colorful oil paintings reflect upon the remoteness\,
  the hardships\, and the struggles of early Montanans. Hartman’s attempt t
 o capture a way of life that has vanished forever has resulted in three ma
 jor art series… homesteads\, riverboats\, and the Rocky Mountains.\n\nThe 
 opening reception is FRIDAY\, AUGUST 29\, from 5-7 p.m. Enjoy light refres
 hments. This event is free and open to the public. If you are unable to at
 tend the opening reception\, stop by the Depot Gallery\, Monday September 
 1\, during the Labor Day Arts Fair to visit with the artist. \n\nThis exhi
 bition is organized by the Carbon County Arts Guild & Depot Gallery which 
 receives additional support from coal tax placed into Montana's Cultural a
 nd Aesthetic Projects Trust Fund.\n \nThe Carbon County Arts Guild & Depot
  Gallery provides access to art\, supports artistic expression\, and encou
 rages creative experiences for the enrichment of our communities. \n\n
DTSTART;TZID=America/Denver:20250830T040000
DTEND;TZID=America/Denver:20250928T040001
LOCATION:
SUMMARY:THE TIPPING POINT: Paintings by Carol Hartman
END:VEVENT
END:VCALENDAR
