BEGIN:VCALENDAR
VERSION:2.0
PRODID:-//carboncountydepotgallery.org//NONSGML kigkonsult.se iCalcreator 2
 .30.10//
CALSCALE:GREGORIAN
METHOD:PUBLISH
UID:4881c9d3-7d4d-42bb-851c-45592b4c8f0c
X-WR-CALDESC:The 8x8 Exhibition will feature amazing pieces from Carbon Cou
 nty Arts Guild member artists. It is a fun show and just in time for the h
 oliday season! \n\nEach piece is 8' x 8' in size. Buy a piece for your hom
 e\, cabin\, or as a gift. Subject matter varies as do the styles of art. T
 his is a cash and carry exhibition meaning people are welcome to buy the p
 iece and take it home on the spot. Shipping options are available. \n\nDon
 ’t wait to visit because pieces sell every day.
X-WR-RELCALID:e1f98a80b58d1b401342b54f8ceee610
X-WR-TIMEZONE:America/Denver
BEGIN:VTIMEZONE
TZID:America/Denver
BEGIN:STANDARD
TZNAME:MST
DTSTART:20251102T020000
TZOFFSETFROM:-0600
TZOFFSETTO:-0700
RDATE:20261101T020000
END:STANDARD
BEGIN:DAYLIGHT
TZNAME:MDT
DTSTART:20250309T020000
TZOFFSETFROM:-0700
TZOFFSETTO:-0600
RDATE:20260308T020000
RDATE:20270314T020000
END:DAYLIGHT
END:VTIMEZONE
BEGIN:VEVENT
UID:ac6e5a97-c161-4b48-b7e9-9beb029dc66c
DTSTAMP:20260424T121346Z
DESCRIPTION:The 8x8 Exhibition will feature amazing pieces from Carbon Coun
 ty Arts Guild member artists. It is a fun show and just in time for the ho
 liday season! \n\nEach piece is 8' x 8' in size. Buy a piece for your home
 \, cabin\, or as a gift. Subject matter varies as do the styles of art. Th
 is is a cash and carry exhibition meaning people are welcome to buy the pi
 ece and take it home on the spot. Shipping options are available. \n\nDon’
 t wait to visit because pieces sell every day.
DTSTART;TZID=America/Denver:20251123T040000
DTEND;TZID=America/Denver:20251227T040001
LOCATION:
SUMMARY:8x8 Exhibition: featuring CCAG Members Work
END:VEVENT
END:VCALENDAR
