BEGIN:VCALENDAR
VERSION:2.0
PRODID:-//carboncountydepotgallery.org//NONSGML kigkonsult.se iCalcreator 2
 .30.10//
CALSCALE:GREGORIAN
METHOD:PUBLISH
UID:187ae740-7865-40ed-9199-767b1d65cb49
X-WR-CALDESC:Although the subject matter is all about birds the art on view
  reflects a wide variety of mediums and styles.\n\nJoin us for the opening
  reception Saturday\, January 17\, 2026 from 2-4 p.m. Light refreshments w
 ill be served.\n\nIn conjunction with The Art of Birding Exhibition\, loca
 l naturalist Dominique Paulus will present 'Montana Birding' a delightful 
 free presentation on Sunday\, February 1 from 1:30-2:30 p.m.\n\n\nImage: D
 etail of 'Getting Crowded' by Kate Murphy
X-WR-RELCALID:d7774df8abb92719b69d4ecde39e70a9
X-WR-TIMEZONE:America/Denver
BEGIN:VTIMEZONE
TZID:America/Denver
BEGIN:STANDARD
TZNAME:MST
DTSTART:20251102T020000
TZOFFSETFROM:-0600
TZOFFSETTO:-0700
RDATE:20261101T020000
END:STANDARD
BEGIN:DAYLIGHT
TZNAME:MDT
DTSTART:20250309T020000
TZOFFSETFROM:-0700
TZOFFSETTO:-0600
RDATE:20260308T020000
RDATE:20270314T020000
END:DAYLIGHT
END:VTIMEZONE
BEGIN:VEVENT
UID:26ff39ec-4c5b-4bee-848e-7386f1589281
DTSTAMP:20260424T124402Z
DESCRIPTION:Although the subject matter is all about birds the art on view 
 reflects a wide variety of mediums and styles.\n\nJoin us for the opening 
 reception Saturday\, January 17\, 2026 from 2-4 p.m. Light refreshments wi
 ll be served.\n\nIn conjunction with The Art of Birding Exhibition\, local
  naturalist Dominique Paulus will present 'Montana Birding' a delightful f
 ree presentation on Sunday\, February 1 from 1:30-2:30 p.m.\n\n\nImage: De
 tail of 'Getting Crowded' by Kate Murphy
DTSTART;TZID=America/Denver:20260110T040000
DTEND;TZID=America/Denver:20260228T040001
LOCATION:
SUMMARY:The Art of Birding
END:VEVENT
END:VCALENDAR
