BEGIN:VCALENDAR
VERSION:2.0
PRODID:-//carboncountydepotgallery.org//NONSGML kigkonsult.se iCalcreator 2
 .30.10//
CALSCALE:GREGORIAN
METHOD:PUBLISH
UID:cb4815d8-a4b2-47bb-8922-cafa3c46f1ee
X-WR-CALDESC:The 'Inspired by Song' exhibition will feature a variety of wo
 rk by Carbon County Arts Guild members. Participating artists create an im
 age inspired by a specific song and titled the piece after that song. \n\n
 As a special element for the exhibition\, each work includes a Qr-code all
 owing viewers to scan and listen to the song. Stay tuned for more details 
 including the opening reception information.\n\n
X-WR-RELCALID:8eca9c89edb200326408e00212bd7214
X-WR-TIMEZONE:America/Denver
BEGIN:VTIMEZONE
TZID:America/Denver
BEGIN:STANDARD
TZNAME:MST
DTSTART:20251102T020000
TZOFFSETFROM:-0600
TZOFFSETTO:-0700
RDATE:20261101T020000
RDATE:20271107T020000
END:STANDARD
BEGIN:DAYLIGHT
TZNAME:MDT
DTSTART:20260308T020000
TZOFFSETFROM:-0700
TZOFFSETTO:-0600
RDATE:20270314T020000
END:DAYLIGHT
END:VTIMEZONE
BEGIN:VEVENT
UID:7cf4ebf0-0b24-47cf-b910-dabfb0aa010c
DTSTAMP:20260424T114359Z
DESCRIPTION:The 'Inspired by Song' exhibition will feature a variety of wor
 k by Carbon County Arts Guild members. Participating artists create an ima
 ge inspired by a specific song and titled the piece after that song. \n\nA
 s a special element for the exhibition\, each work includes a Qr-code allo
 wing viewers to scan and listen to the song. Stay tuned for more details i
 ncluding the opening reception information.\n\n
DTSTART;TZID=America/Denver:20260604T040000
DTEND;TZID=America/Denver:20260628T040001
LOCATION:
SUMMARY:'Inspired By Song\,' Guild Members Exhibition
END:VEVENT
END:VCALENDAR
