BEGIN:VCALENDAR
VERSION:2.0
PRODID:-//carboncountydepotgallery.org//NONSGML kigkonsult.se iCalcreator 2
 .30.10//
CALSCALE:GREGORIAN
METHOD:PUBLISH
UID:dafd966a-c0b7-4322-8b32-0f6afd9830fb
X-WR-CALDESC:Details for this event will be coming soon.
X-WR-RELCALID:623fde9fe95e7ec95b580c687a5c2678
X-WR-TIMEZONE:America/Denver
BEGIN:VTIMEZONE
TZID:America/Denver
BEGIN:STANDARD
TZNAME:MST
DTSTART:20251102T020000
TZOFFSETFROM:-0600
TZOFFSETTO:-0700
RDATE:20261101T020000
RDATE:20271107T020000
END:STANDARD
BEGIN:DAYLIGHT
TZNAME:MDT
DTSTART:20260308T020000
TZOFFSETFROM:-0700
TZOFFSETTO:-0600
RDATE:20270314T020000
END:DAYLIGHT
END:VTIMEZONE
BEGIN:VEVENT
UID:7fa57bdc-82fa-4f4a-bcf2-e61553f609cb
DTSTAMP:20260424T115529Z
DESCRIPTION:Details for this event will be coming soon.
DTSTART;TZID=America/Denver:20260711T140000
DTEND;TZID=America/Denver:20260711T180000
LOCATION:
SUMMARY:Art in the Beartooths Reception and Demos on Deck
END:VEVENT
END:VCALENDAR
