BEGIN:VCALENDAR
VERSION:2.0
PRODID:-//carboncountydepotgallery.org//NONSGML kigkonsult.se iCalcreator 2
 .30.10//
CALSCALE:GREGORIAN
METHOD:PUBLISH
UID:2f61711e-a881-4a5c-a240-a8e4d080213f
X-WR-CALDESC:This intermediate watercolor class will focus on completing a 
 painting with a Fall tipi theme.  Students will learn the basics of drawin
 g a tipi in a simplified\, yet accurate way. Step-by-step demonstrations w
 ill be given as we proceed through the painting. A fun constructive critiq
 ue will be given toward the end of class with the encouragement of class p
 articipation. \n\n$125 CCAG Member  |  $135 Non-Member\n\nClass is intende
 d for intermediate to advanced watercolor painters.\nClass limited to 10. 
 Participants need to provide their own supplies - please download supply l
 ist below
X-WR-RELCALID:f40e2fbd0c7eed44e01412d32f80c86d
X-WR-TIMEZONE:America/Denver
BEGIN:VTIMEZONE
TZID:America/Denver
BEGIN:STANDARD
TZNAME:MST
DTSTART:20251102T020000
TZOFFSETFROM:-0600
TZOFFSETTO:-0700
RDATE:20261101T020000
RDATE:20271107T020000
END:STANDARD
BEGIN:DAYLIGHT
TZNAME:MDT
DTSTART:20260308T020000
TZOFFSETFROM:-0700
TZOFFSETTO:-0600
RDATE:20270314T020000
END:DAYLIGHT
END:VTIMEZONE
BEGIN:VEVENT
UID:29057ed1-9fdb-4f96-9f5f-62dfbfd56750
DTSTAMP:20260421T195532Z
DESCRIPTION:This intermediate watercolor class will focus on completing a p
 ainting with a Fall tipi theme.  Students will learn the basics of drawing
  a tipi in a simplified\, yet accurate way. Step-by-step demonstrations wi
 ll be given as we proceed through the painting. A fun constructive critiqu
 e will be given toward the end of class with the encouragement of class pa
 rticipation. \n\n$125 CCAG Member  |  $135 Non-Member\n\nClass is intended
  for intermediate to advanced watercolor painters.\nClass limited to 10. P
 articipants need to provide their own supplies - please download supply li
 st below
DTSTART;TZID=America/Denver:20260509T100000
DTEND;TZID=America/Denver:20260509T160000
LOCATION:
SUMMARY:Watercolor Painting with Lance Johnson
END:VEVENT
END:VCALENDAR
