BEGIN:VCALENDAR
VERSION:2.0
PRODID:-//carboncountydepotgallery.org//NONSGML kigkonsult.se iCalcreator 2
 .30.10//
CALSCALE:GREGORIAN
METHOD:PUBLISH
UID:2aeaa9b8-1c17-42b6-a03a-8cc52f898b83
X-WR-CALDESC:Need a helping hand with uploading your submission for Art in 
 the Beartooths Silent Auction to CaFE? Bring your device (laptop\, tablet 
 or phone) to the Arts Guild and let's work together! We will walk you thro
 ugh the process from start to finish - leave with your submission complete
 d!\n\nFREE for Guild Members\, Please RSVP to: programs@carboncountydepotg
 allery.org\n
X-WR-RELCALID:7350f640c5e218e226268c6598d9dc4e
X-WR-TIMEZONE:America/Denver
BEGIN:VTIMEZONE
TZID:America/Denver
BEGIN:STANDARD
TZNAME:MST
DTSTART:20251102T020000
TZOFFSETFROM:-0600
TZOFFSETTO:-0700
RDATE:20261101T020000
RDATE:20271107T020000
END:STANDARD
BEGIN:DAYLIGHT
TZNAME:MDT
DTSTART:20260308T020000
TZOFFSETFROM:-0700
TZOFFSETTO:-0600
RDATE:20270314T020000
END:DAYLIGHT
END:VTIMEZONE
BEGIN:VEVENT
UID:2af30eca-a132-4c55-bd2f-4848e22e565f
DTSTAMP:20260421T195404Z
DESCRIPTION:Need a helping hand with uploading your submission for Art in t
 he Beartooths Silent Auction to CaFE? Bring your device (laptop\, tablet o
 r phone) to the Arts Guild and let's work together! We will walk you throu
 gh the process from start to finish - leave with your submission completed
 !\n\nFREE for Guild Members\, Please RSVP to: programs@carboncountydepotga
 llery.org\n
DTSTART;TZID=America/Denver:20260607T140000
DTEND;TZID=America/Denver:20260607T150000
LOCATION:
SUMMARY:CaFE Assistance
END:VEVENT
END:VCALENDAR
