BEGIN:VCALENDAR
VERSION:2.0
PRODID:-//carboncountydepotgallery.org//NONSGML kigkonsult.se iCalcreator 2
 .30.10//
CALSCALE:GREGORIAN
METHOD:PUBLISH
UID:6a3edba6-b0e7-4ff9-a3ff-06e43e3a39f7
X-WR-CALDESC:Bring your own supplies and sketch\, draw or paint from a clot
 hed model.\nAll skill levels welcome.\n\nNo Registration needed\nFREE for 
 CCAG members and students 18 and under. $5 for non-members\n
X-WR-RELCALID:097bfe802753971bf0fc9008417d5ddd
X-WR-TIMEZONE:America/Denver
BEGIN:VTIMEZONE
TZID:America/Denver
BEGIN:STANDARD
TZNAME:MST
DTSTART:20251102T020000
TZOFFSETFROM:-0600
TZOFFSETTO:-0700
RDATE:20261101T020000
RDATE:20271107T020000
END:STANDARD
BEGIN:DAYLIGHT
TZNAME:MDT
DTSTART:20260308T020000
TZOFFSETFROM:-0700
TZOFFSETTO:-0600
RDATE:20270314T020000
END:DAYLIGHT
END:VTIMEZONE
BEGIN:VEVENT
UID:ed8e2318-3ea9-4f2a-b123-baf3aa24b072
DTSTAMP:20260424T085651Z
DESCRIPTION:Bring your own supplies and sketch\, draw or paint from a cloth
 ed model.\nAll skill levels welcome.\n\nNo Registration needed\nFREE for C
 CAG members and students 18 and under. $5 for non-members\n
DTSTART;TZID=America/Denver:20260517T140000
DTEND;TZID=America/Denver:20260517T160000
LOCATION:
SUMMARY:Open Studio - Figure Drawing
END:VEVENT
END:VCALENDAR
