BEGIN:VCALENDAR
VERSION:2.0
PRODID:-//carboncountydepotgallery.org//NONSGML kigkonsult.se iCalcreator 2
 .30.10//
CALSCALE:GREGORIAN
METHOD:PUBLISH
UID:241742fe-89f2-4468-b21f-c1f7a3841aed
X-WR-CALDESC:Learn amigurumi crochet\, starting with this adorable baby oct
 opus. If you have a Woobles (or other brand) kit\, bring it along - we’ll 
 get you started!\n\nAll tools and supplies provided\, but feel free to bri
 ng your own hooks and yarn if you have your favorites.\n\n$35 per student
 \nNo experience necessary.\nClass size limited to 6. Ages 8-14.
X-WR-RELCALID:8b5973a20d3e9354b855d1e4f1cb1b85
X-WR-TIMEZONE:America/Denver
BEGIN:VTIMEZONE
TZID:America/Denver
BEGIN:STANDARD
TZNAME:MST
DTSTART:20251102T020000
TZOFFSETFROM:-0600
TZOFFSETTO:-0700
RDATE:20261101T020000
RDATE:20271107T020000
END:STANDARD
BEGIN:DAYLIGHT
TZNAME:MDT
DTSTART:20260308T020000
TZOFFSETFROM:-0700
TZOFFSETTO:-0600
RDATE:20270314T020000
END:DAYLIGHT
END:VTIMEZONE
BEGIN:VEVENT
UID:42c4a80c-e700-419c-9191-e4781ff788a0
DTSTAMP:20260424T085213Z
DESCRIPTION:Learn amigurumi crochet\, starting with this adorable baby octo
 pus. If you have a Woobles (or other brand) kit\, bring it along - we’ll g
 et you started!\n\nAll tools and supplies provided\, but feel free to brin
 g your own hooks and yarn if you have your favorites.\n\n$35 per student\n
 No experience necessary.\nClass size limited to 6. Ages 8-14.
DTSTART;TZID=America/Denver:20260622T100000
DTEND;TZID=America/Denver:20260624T233000
LOCATION:
SUMMARY:Crochet Camp for Kids
END:VEVENT
END:VCALENDAR
