BEGIN:VCALENDAR
VERSION:2.0
PRODID:-//carboncountydepotgallery.org//NONSGML kigkonsult.se iCalcreator 2
 .30.10//
CALSCALE:GREGORIAN
METHOD:PUBLISH
UID:875d0b9a-07b4-43bb-bbb3-346158129475
X-WR-CALDESC:4 days of art fun with a focus on exploring different material
 s and creativity\, including paint\, clay\, watercolor\, collage and more.
 \n\n$110 per student\nAll tools and supplies provided. \nNo experience nec
 essary.\nClass size is limited to 10. Ages 8-12.
X-WR-RELCALID:2f7ac666c1310d0db6c99fda6088143a
X-WR-TIMEZONE:America/Denver
BEGIN:VTIMEZONE
TZID:America/Denver
BEGIN:STANDARD
TZNAME:MST
DTSTART:20251102T020000
TZOFFSETFROM:-0600
TZOFFSETTO:-0700
RDATE:20261101T020000
RDATE:20271107T020000
END:STANDARD
BEGIN:DAYLIGHT
TZNAME:MDT
DTSTART:20260308T020000
TZOFFSETFROM:-0700
TZOFFSETTO:-0600
RDATE:20270314T020000
END:DAYLIGHT
END:VTIMEZONE
BEGIN:VEVENT
UID:fde41fc6-dc40-4be7-a556-9deb76ff8b1f
DTSTAMP:20260424T123311Z
DESCRIPTION:4 days of art fun with a focus on exploring different materials
  and creativity\, including paint\, clay\, watercolor\, collage and more.
 \n\n$110 per student\nAll tools and supplies provided. \nNo experience nec
 essary.\nClass size is limited to 10. Ages 8-12.
DTSTART;TZID=America/Denver:20260713T090000
DTEND;TZID=America/Denver:20260716T233000
LOCATION:
SUMMARY:Mixed Media Youth Art Camp
END:VEVENT
END:VCALENDAR
