BEGIN:VCALENDAR
VERSION:2.0
PRODID:-//carboncountydepotgallery.org//NONSGML kigkonsult.se iCalcreator 2
 .30.10//
CALSCALE:GREGORIAN
METHOD:PUBLISH
UID:2b670aa8-950d-46aa-95a3-e218a4664b8f
X-WR-CALDESC:4 days of art fun with a focus on drawing techniques\, renderi
 ng form and exploring different media including colored pencils\, charcoal
 \, markers and more.\n\n$110 per student\nAll tools and supplies provided.
  \nNo experience necessary.\nClass size is limited to 10. Ages 8-12.
X-WR-RELCALID:0f31b4e17703fed91dfd9ecb6a281bc9
X-WR-TIMEZONE:America/Denver
BEGIN:VTIMEZONE
TZID:America/Denver
BEGIN:STANDARD
TZNAME:MST
DTSTART:20251102T020000
TZOFFSETFROM:-0600
TZOFFSETTO:-0700
RDATE:20261101T020000
RDATE:20271107T020000
END:STANDARD
BEGIN:DAYLIGHT
TZNAME:MDT
DTSTART:20260308T020000
TZOFFSETFROM:-0700
TZOFFSETTO:-0600
RDATE:20270314T020000
END:DAYLIGHT
END:VTIMEZONE
BEGIN:VEVENT
UID:a9863fc0-0df3-4d45-90cc-8e916e649912
DTSTAMP:20260424T003250Z
DESCRIPTION:4 days of art fun with a focus on drawing techniques\, renderin
 g form and exploring different media including colored pencils\, charcoal\
 , markers and more.\n\n$110 per student\nAll tools and supplies provided. 
 \nNo experience necessary.\nClass size is limited to 10. Ages 8-12.
DTSTART;TZID=America/Denver:20260608T090000
DTEND;TZID=America/Denver:20260611T113000
LOCATION:
SUMMARY:Youth Drawing Camp
END:VEVENT
END:VCALENDAR
